BEGIN:VCALENDAR
VERSION:2.0
PRODID:icalendar-ruby
CALSCALE:GREGORIAN
METHOD:PUBLISH
BEGIN:VEVENT
DTSTAMP:20260422T020057Z
UID:6-529987@firstbaptistmboro.com
DTSTART:20260927T144500Z
DTEND:20260927T154500Z
CLASS:PUBLIC
CREATED:20260421T202238
DESCRIPTION:
LAST-MODIFIED:20260421T202238
LOCATION:500 South Washington\, Murfreesboro AR
SUMMARY:Sunday School
URL;VALUE=URI:https://www.firstbaptistmboro.com/events/sunday-school/2026-0
 9-27
ATTACH;FILENAME=Blue-duotone-Hello-Sunday-Greeting-Facebook-Post.jpg;FMTTYP
 E=image/jpeg:https://dq5pwpg1q8ru0.cloudfront.net/2025/02/11/20/16/53/bb8b
 bd17-0d05-4e20-8e67-de30e2e38b8b/Blue-duotone-Hello-Sunday-Greeting-Facebo
 ok-Post.jpg
END:VEVENT
END:VCALENDAR
