BEGIN:VCALENDAR
VERSION:2.0
PRODID:icalendar-ruby
CALSCALE:GREGORIAN
METHOD:PUBLISH
BEGIN:VEVENT
DTSTAMP:20260424T231211Z
UID:7-537426@firstbaptistmboro.com
DTSTART:20261011T154500Z
DTEND:20261012T040000Z
CLASS:PUBLIC
CREATED:20260424T155721
DESCRIPTION:
LAST-MODIFIED:20260424T155721
LOCATION:500 South Washington\, Murfreesboro AR
SUMMARY:Church
URL;VALUE=URI:https://www.firstbaptistmboro.com/events/church/2026-10-11
ATTACH;FILENAME=Green-and-Gold-Easter-Sermon-Presentation.jpg;FMTTYPE=image
 /jpeg:https://dq5pwpg1q8ru0.cloudfront.net/2025/02/12/18/18/03/7536d6a7-ee
 14-457b-ab5a-59677eae5da8/Green-and-Gold-Easter-Sermon-Presentation.jpg
END:VEVENT
END:VCALENDAR
