BEGIN:VCALENDAR
VERSION:2.0
PRODID:icalendar-ruby
CALSCALE:GREGORIAN
METHOD:PUBLISH
BEGIN:VEVENT
DTSTAMP:20260421T195837Z
UID:13-528890@firstbaptistmboro.com
DTSTART:20260923T230000Z
DTEND:20260924T000000Z
CLASS:PUBLIC
CREATED:20260421T122948
DESCRIPTION:
LAST-MODIFIED:20260421T122948
LOCATION:500 South Washington\, Murfreesboro AR
SUMMARY:Adult Bible Study & Prayer Meeting
URL;VALUE=URI:https://www.firstbaptistmboro.com/events/adult-bible-study-pr
 ayer-meeting/2026-09-23
ATTACH;FILENAME=Black-and-Gold-Elegant-Bible-Study-YouTube-Thumbnail.jpg;FM
 TTYPE=image/jpeg:https://dq5pwpg1q8ru0.cloudfront.net/2025/02/11/20/14/00/
 5d5489cf-5ace-4f2d-9d6c-2c1e7411336b/Black-and-Gold-Elegant-Bible-Study-Yo
 uTube-Thumbnail.jpg
END:VEVENT
END:VCALENDAR
